BEGIN:VCALENDAR
VERSION:2.0
PRODID:-//wp-events-plugin.com//7.2.3.1//EN
TZID:America/Los_Angeles
X-WR-TIMEZONE:America/Los_Angeles
BEGIN:VEVENT
UID:380@fpasf.org
DTSTART;TZID=America/Los_Angeles;VALUE=DATE:20260304
DTEND;TZID=America/Los_Angeles;VALUE=DATE:20260306
DTSTAMP:20260116T005018Z
URL:https://www.fpasf.org/events/fpa-ca-14th-annual-advocacy-day/
SUMMARY:FPA CA 14th Annual Advocacy Day
DESCRIPTION:Location: California State Capitol\n\nDETAILS/REGISTER
END:VEVENT
BEGIN:VTIMEZONE
TZID:America/Los_Angeles
X-LIC-LOCATION:America/Los_Angeles
BEGIN:STANDARD
DTSTART:20251102T010000
TZOFFSETFROM:-0700
TZOFFSETTO:-0800
TZNAME:PST
END:STANDARD
END:VTIMEZONE
END:VCALENDAR