BEGIN:VCALENDAR
VERSION:2.0
PRODID:-//wp-events-plugin.com//7.2.3.1//EN
TZID:America/Los_Angeles
X-WR-TIMEZONE:America/Los_Angeles
BEGIN:VEVENT
UID:372@fpasf.org
DTSTART;TZID=America/Los_Angeles:20260113T150000
DTEND;TZID=America/Los_Angeles:20260113T163000
DTSTAMP:20260107T211837Z
URL:https://www.fpasf.org/events/market-outlook/
SUMMARY:2026 Market Outlook
DESCRIPTION:Speakers: James Anania\, Investment Strategist for the Investme
 nt Thought Leadership Team at Invesco / Michael Underhill\, Co-Founder of 
 Capital Innovations\, (Sub-Adviser for Cantor Fitzgerald)\nStrategic Partn
 er: Cantor Fitzgerald\, John Bacigalupi\n\nDETAILS/REGISTER
CATEGORIES:Local
LOCATION:San Francisco Italian Athletic Club\, 1630 Stockton Street\, San F
 rancisco\, CA\, 94133\, United States
X-APPLE-STRUCTURED-LOCATION;VALUE=URI;X-ADDRESS=1630 Stockton Street\, San 
 Francisco\, CA\, 94133\, United States;X-APPLE-RADIUS=100;X-TITLE=San Fran
 cisco Italian Athletic Club:geo:0,0
END:VEVENT
BEGIN:VTIMEZONE
TZID:America/Los_Angeles
X-LIC-LOCATION:America/Los_Angeles
BEGIN:STANDARD
DTSTART:20251102T010000
TZOFFSETFROM:-0700
TZOFFSETTO:-0800
TZNAME:PST
END:STANDARD
END:VTIMEZONE
END:VCALENDAR