BEGIN:VCALENDAR
VERSION:2.0
PRODID:-//wp-events-plugin.com//7.2.3.1//EN
TZID:America/Los_Angeles
X-WR-TIMEZONE:America/Los_Angeles
BEGIN:VEVENT
UID:367@fpasf.org
DTSTART;TZID=America/Los_Angeles:20250910T170000
DTEND;TZID=America/Los_Angeles:20250910T200000
DTSTAMP:20250801T014700Z
URL:https://www.fpasf.org/events/member-appreciation-event-north-beach-lit
 tle-italy-night-group-tour/
SUMMARY:Member Appreciation Event: North Beach/Little Italy Night Group Tou
 r
DESCRIPTION:Looking for an evening filled with iconic San Francisco charm\,
  mouthwatering Italian flavors\, and hidden local gems? Join us for our No
 rth Beach/Little Italy Night Group Tour\, where we explore the heart of Sa
 n Francisco’s Italian heritage — one bite\, one sip\, and one story at
  a time. The tour will take place after the chapter meeting at 5:00 pm.\n
 Strategic Partner: Mutual of Omaha Mortgage\, Homa Rassouli\n\nDETAILS/REG
 ISTER 
CATEGORIES:Local
END:VEVENT
BEGIN:VTIMEZONE
TZID:America/Los_Angeles
X-LIC-LOCATION:America/Los_Angeles
BEGIN:DAYLIGHT
DTSTART:20250309T030000
TZOFFSETFROM:-0800
TZOFFSETTO:-0700
TZNAME:PDT
END:DAYLIGHT
END:VTIMEZONE
END:VCALENDAR