BEGIN:VCALENDAR
VERSION:2.0
PRODID:-//wp-events-plugin.com//7.2.3.1//EN
TZID:America/Los_Angeles
X-WR-TIMEZONE:America/Los_Angeles
BEGIN:VEVENT
UID:384@fpasf.org
DTSTART;TZID=America/Los_Angeles:20260527T173000
DTEND;TZID=America/Los_Angeles:20260527T190000
DTSTAMP:20260312T155534Z
URL:https://www.fpasf.org/events/nexgen-norcal-mixer/
SUMMARY:NexGen NorCal Reception
DESCRIPTION:Please RSVP by Wednesday\, May 6th. Registration is free\, but 
 space is limited. We look forward to seeing you there!\n\nDETAILS/REGISTER
CATEGORIES:Local
END:VEVENT
BEGIN:VTIMEZONE
TZID:America/Los_Angeles
X-LIC-LOCATION:America/Los_Angeles
BEGIN:DAYLIGHT
DTSTART:20260308T030000
TZOFFSETFROM:-0800
TZOFFSETTO:-0700
TZNAME:PDT
END:DAYLIGHT
END:VTIMEZONE
END:VCALENDAR