BEGIN:VCALENDAR
VERSION:2.0
PRODID:-//wp-events-plugin.com//7.2.3.1//EN
TZID:America/Los_Angeles
X-WR-TIMEZONE:America/Los_Angeles
BEGIN:VEVENT
UID:374@fpasf.org
DTSTART;TZID=America/Los_Angeles:20260317T150000
DTEND;TZID=America/Los_Angeles:20260317T163000
DTSTAMP:20260219T214011Z
URL:https://www.fpasf.org/events/practice-management/
SUMMARY:Round Table: How local advisors are running their practices
DESCRIPTION:Strategic Partner: Mutual of Omaha Mortgage\, Homa Rassouli\n\n
 DETAILS/REGISTER
CATEGORIES:Local
LOCATION:San Francisco Italian Athletic Club\, 1630 Stockton Street\, San F
 rancisco\, CA\, 94133\, United States
X-APPLE-STRUCTURED-LOCATION;VALUE=URI;X-ADDRESS=1630 Stockton Street\, San 
 Francisco\, CA\, 94133\, United States;X-APPLE-RADIUS=100;X-TITLE=San Fran
 cisco Italian Athletic Club:geo:0,0
END:VEVENT
BEGIN:VTIMEZONE
TZID:America/Los_Angeles
X-LIC-LOCATION:America/Los_Angeles
BEGIN:DAYLIGHT
DTSTART:20260308T030000
TZOFFSETFROM:-0800
TZOFFSETTO:-0700
TZNAME:PDT
END:DAYLIGHT
END:VTIMEZONE
END:VCALENDAR