BEGIN:VCALENDAR
VERSION:2.0
PRODID:-//wp-events-plugin.com//7.2.3.1//EN
TZID:America/Los_Angeles
X-WR-TIMEZONE:America/Los_Angeles
BEGIN:VEVENT
UID:359@fpasf.org
DTSTART;TZID=America/Los_Angeles:20251018T093000
DTEND;TZID=America/Los_Angeles:20251018T170000
DTSTAMP:20250818T133255Z
URL:https://www.fpasf.org/events/san-francisco-financial-planning-day/
SUMMARY:San Francisco Financial Planning Day
DESCRIPTION:To register as a volunteer\, please visit - https://www.bayarea
 financialplanningdays.org/volunteer
CATEGORIES:Local
LOCATION:San Francisco Public Library Main Branch\, 100 Larkin Street\, San
  Francisco\, CA\, 94102\, United States
X-APPLE-STRUCTURED-LOCATION;VALUE=URI;X-ADDRESS=100 Larkin Street\, San Fra
 ncisco\, CA\, 94102\, United States;X-APPLE-RADIUS=100;X-TITLE=San Francis
 co Public Library Main Branch:geo:0,0
END:VEVENT
BEGIN:VTIMEZONE
TZID:America/Los_Angeles
X-LIC-LOCATION:America/Los_Angeles
BEGIN:DAYLIGHT
DTSTART:20250309T030000
TZOFFSETFROM:-0800
TZOFFSETTO:-0700
TZNAME:PDT
END:DAYLIGHT
END:VTIMEZONE
END:VCALENDAR