BEGIN:VCALENDAR
VERSION:2.0
PRODID:-//wp-events-plugin.com//7.2.3.1//EN
TZID:America/Los_Angeles
X-WR-TIMEZONE:America/Los_Angeles
BEGIN:VEVENT
UID:368@fpasf.org
DTSTART;TZID=America/Los_Angeles:20261024T093000
DTEND;TZID=America/Los_Angeles:20261024T170000
DTSTAMP:20260403T145815Z
URL:https://www.fpasf.org/events/sf-financial-planning-day-2026/
SUMMARY:San Francisco Financial Planning Day 2026
DESCRIPTION:MORE DETAILS HERE
CATEGORIES:Local
LOCATION:San Francisco Public Library Main Branch\, 100 Larkin Street\, San
  Francisco\, CA\, 94102\, United States
X-APPLE-STRUCTURED-LOCATION;VALUE=URI;X-ADDRESS=100 Larkin Street\, San Fra
 ncisco\, CA\, 94102\, United States;X-APPLE-RADIUS=100;X-TITLE=San Francis
 co Public Library Main Branch:geo:0,0
END:VEVENT
BEGIN:VTIMEZONE
TZID:America/Los_Angeles
X-LIC-LOCATION:America/Los_Angeles
BEGIN:DAYLIGHT
DTSTART:20260308T030000
TZOFFSETFROM:-0800
TZOFFSETTO:-0700
TZNAME:PDT
END:DAYLIGHT
END:VTIMEZONE
END:VCALENDAR