BEGIN:VCALENDAR
VERSION:2.0
PRODID:-//wp-events-plugin.com//7.2.3.1//EN
TZID:America/Los_Angeles
X-WR-TIMEZONE:America/Los_Angeles
BEGIN:VEVENT
UID:131@fpasf.org
DTSTART;TZID=America/Los_Angeles:20210208T110000
DTEND;TZID=America/Los_Angeles:20210208T120000
DTSTAMP:20210205T041830Z
URL:https://www.fpasf.org/events/strategic-partner-webinar-investing-in-a-
 coming-age-the-future-digital-generation-in-emerging-markets/
SUMMARY:Strategic Partner Webinar - Investing in a Coming Age: The Future D
 igital Generation in Emerging Markets
DESCRIPTION:Strategic Partner - EMQQ \n\nDetails/Register\n\n1.0 Hour CFP 
 CE Credit
CATEGORIES:Local
END:VEVENT
BEGIN:VTIMEZONE
TZID:America/Los_Angeles
X-LIC-LOCATION:America/Los_Angeles
BEGIN:STANDARD
DTSTART:20201101T010000
TZOFFSETFROM:-0700
TZOFFSETTO:-0800
TZNAME:PST
END:STANDARD
END:VTIMEZONE
END:VCALENDAR