BEGIN:VCALENDAR
VERSION:2.0
PRODID:-//wp-events-plugin.com//7.2.3.1//EN
TZID:America/Los_Angeles
X-WR-TIMEZONE:America/Los_Angeles
BEGIN:VEVENT
UID:351@fpasf.org
DTSTART;TZID=America/Los_Angeles:20250910T150000
DTEND;TZID=America/Los_Angeles:20250910T163000
DTSTAMP:20250801T004719Z
URL:https://www.fpasf.org/events/tax-planning-through-entities/
SUMMARY:High Impact Tax Strategies
DESCRIPTION:Panelists: Christopher Karachale\, Hanson Bridgett (QSBS) / To
 mmy McCollister\, Armanino Advisory (non-qualified deferred comp) / Patri
 ck Collar\, Nicholas Pension Consultants (hybrid defined benefit and defin
 ed contribution plans)\nStrategic Partner: Stonecrest\, Christina Gray\n\n
 DETAILS/REGISTER\n\nPLEASE NOTE:  This meeting is on a WEDNESDAY. We wi
 ll be meeting in the BALLROOM at the SF Italian Athletic Club.
CATEGORIES:Local
LOCATION:San Francisco Italian Athletic Club\, 1630 Stockton Street\, San F
 rancisco\, CA\, 94133\, United States
X-APPLE-STRUCTURED-LOCATION;VALUE=URI;X-ADDRESS=1630 Stockton Street\, San 
 Francisco\, CA\, 94133\, United States;X-APPLE-RADIUS=100;X-TITLE=San Fran
 cisco Italian Athletic Club:geo:0,0
END:VEVENT
BEGIN:VTIMEZONE
TZID:America/Los_Angeles
X-LIC-LOCATION:America/Los_Angeles
BEGIN:DAYLIGHT
DTSTART:20250309T030000
TZOFFSETFROM:-0800
TZOFFSETTO:-0700
TZNAME:PDT
END:DAYLIGHT
END:VTIMEZONE
END:VCALENDAR