BEGIN:VCALENDAR
VERSION:2.0
PRODID:-//wp-events-plugin.com//7.2.3.1//EN
TZID:America/Los_Angeles
X-WR-TIMEZONE:America/Los_Angeles
BEGIN:VEVENT
UID:373@fpasf.org
DTSTART;TZID=America/Los_Angeles:20260211T150000
DTEND;TZID=America/Los_Angeles:20260211T163000
DTSTAMP:20260112T225430Z
URL:https://www.fpasf.org/events/tax-update-what-to-be-aware-of/
SUMMARY:Beyond the One\, Big\, Beautiful Bill
DESCRIPTION:Speaker: Lawrence K.Y. Pon CPA/PFS\, CFP®\, EA\, USTCP\, AEP\n
 Strategic Partner: The Carlyle Group\, Matt Hilburn\n\nDETAILS/REGISTER
CATEGORIES:Local
LOCATION:San Francisco Italian Athletic Club\, 1630 Stockton Street\, San F
 rancisco\, CA\, 94133\, United States
X-APPLE-STRUCTURED-LOCATION;VALUE=URI;X-ADDRESS=1630 Stockton Street\, San 
 Francisco\, CA\, 94133\, United States;X-APPLE-RADIUS=100;X-TITLE=San Fran
 cisco Italian Athletic Club:geo:0,0
END:VEVENT
BEGIN:VTIMEZONE
TZID:America/Los_Angeles
X-LIC-LOCATION:America/Los_Angeles
BEGIN:STANDARD
DTSTART:20251102T010000
TZOFFSETFROM:-0700
TZOFFSETTO:-0800
TZNAME:PST
END:STANDARD
END:VTIMEZONE
END:VCALENDAR