BEGIN:VCALENDAR
VERSION:2.0
PRODID:-//wp-events-plugin.com//7.2.3.1//EN
TZID:America/Los_Angeles
X-WR-TIMEZONE:America/Los_Angeles
BEGIN:VEVENT
UID:3@fpasf.org
DTSTART;TZID=America/Los_Angeles:20171212T160000
DTEND;TZID=America/Los_Angeles:20171212T173000
DTSTAMP:20171117T192211Z
URL:https://www.fpasf.org/events/to-think-feel-act-and-learn-like-a-financ
 ial-planner-a-presentation-50-years-in-the-making/
SUMMARY:To Think\, Feel\, Act and Learn Like a Financial Planner – A pres
 entation 50 years in the making!
DESCRIPTION:Topic(s): To Think\, Feel\, Act and Learn Like a Financial Plan
 ner – A presentation 50 years in the making!\nSpeaker(s): Dr. Dave Yeske
 \, CFP®\, Managing Director\, Yeske Buie\, Director of Financial Planning
  &amp\; Distinguished Adjunct Professor\, Golden Gate University / Elissa 
 Buie\, CFP®\, CEO\, Yeske Buie\, Distinguished Adjunct Professor\, Golden
  Gate University\nDetails/Register\n\n&nbsp\;
CATEGORIES:Local
LOCATION:The City Club\, 155 Sansome Street\, San Francisco\, CA\, United S
 tates
X-APPLE-STRUCTURED-LOCATION;VALUE=URI;X-ADDRESS=155 Sansome Street\, San Fr
 ancisco\, CA\, United States;X-APPLE-RADIUS=100;X-TITLE=The City Club:geo:
 0,0
END:VEVENT
BEGIN:VTIMEZONE
TZID:America/Los_Angeles
X-LIC-LOCATION:America/Los_Angeles
BEGIN:STANDARD
DTSTART:20171105T010000
TZOFFSETFROM:-0700
TZOFFSETTO:-0800
TZNAME:PST
END:STANDARD
END:VTIMEZONE
END:VCALENDAR